BEGIN:VCALENDAR
METHOD:REQUEST
PRODID:-//events.orgNONSGML ical.net 4.0//EN
VERSION:2.0
BEGIN:VEVENT
DTEND;VALUE=DATE:20260608
DTSTAMP:20260422T090108Z
DTSTART;VALUE=DATE:20260608
LOCATION:Houston Improv\, Houston
ORGANIZER;CN=:mailto:events@events.org
SEQUENCE:0
SUMMARY:Doug Stanhope
UID:8fa5d44c-9603-4bfc-a08e-fc2c46c7e437
URL:https://events.org/e/Doug-Stanhope/3P62UCHO
BEGIN:VALARM
ACTION:DISPLAY
SUMMARY:Reminder
TRIGGER:-P1D
END:VALARM
END:VEVENT
END:VCALENDAR
