BEGIN:VCALENDAR
METHOD:REQUEST
PRODID:-//events.orgNONSGML ical.net 4.0//EN
VERSION:2.0
BEGIN:VEVENT
DTEND;VALUE=DATE:20260519
DTSTAMP:20260421T082244Z
DTSTART;VALUE=DATE:20260519
LOCATION:Park West\, Chicago
ORGANIZER;CN=:mailto:events@events.org
SEQUENCE:0
SUMMARY:Joe Jackson
UID:af83b783-5859-4ef9-8123-c29a26895c4f
URL:https://events.org/e/Joe-Jackson/ATEJ6BS3
BEGIN:VALARM
ACTION:DISPLAY
SUMMARY:Reminder
TRIGGER:-P1D
END:VALARM
END:VEVENT
END:VCALENDAR
