BEGIN:VCALENDAR
METHOD:REQUEST
PRODID:-//events.orgNONSGML ical.net 4.0//EN
VERSION:2.0
BEGIN:VEVENT
DTEND;VALUE=DATE:20260429
DTSTAMP:20260424T080750Z
DTSTART;VALUE=DATE:20260429
LOCATION:Richard Rodgers Theatre\, New York
ORGANIZER;CN=:mailto:events@events.org
SEQUENCE:0
SUMMARY:Hamilton (NY)
UID:8115c389-ebb8-48e5-b4a4-a0ff080b05af
URL:https://events.org/e/Hamilton-NY/3QLWF4XC
BEGIN:VALARM
ACTION:DISPLAY
SUMMARY:Reminder
TRIGGER:-P1D
END:VALARM
END:VEVENT
END:VCALENDAR
