BEGIN:VCALENDAR
METHOD:REQUEST
PRODID:-//events.orgNONSGML ical.net 4.0//EN
VERSION:2.0
BEGIN:VEVENT
DTEND;VALUE=DATE:20260703
DTSTAMP:20260422T100207Z
DTSTART;VALUE=DATE:20260703
LOCATION:Synovus Bank Amphitheater at Chastain Park\, Atlanta
ORGANIZER;CN=:mailto:events@events.org
SEQUENCE:0
SUMMARY:Sarah McLachlan - Better Broken Tour
UID:c812c494-6620-4d6b-9767-7978684a1441
URL:https://events.org/e/Sarah-McLachlan---Better-Broken-Tour/J8LH84VX
BEGIN:VALARM
ACTION:DISPLAY
SUMMARY:Reminder
TRIGGER:-P1D
END:VALARM
END:VEVENT
END:VCALENDAR
