BEGIN:VCALENDAR
METHOD:REQUEST
PRODID:-//events.orgNONSGML ical.net 4.0//EN
VERSION:2.0
BEGIN:VEVENT
DTEND;VALUE=DATE:20260526
DTSTAMP:20260424T080505Z
DTSTART;VALUE=DATE:20260526
LOCATION:Empty Bottle\, Chicago
ORGANIZER;CN=:mailto:events@events.org
SEQUENCE:0
SUMMARY:Modern Cults / Mildred / Josh Leahy and The Phonebook
UID:395e88e6-8e86-4d3a-a411-1d6e160c2bcd
URL:https://events.org/e/Modern-Cults-Mildred-Josh-Leahy-and-The-Phonebook
 /ESA2V7KV
BEGIN:VALARM
ACTION:DISPLAY
SUMMARY:Reminder
TRIGGER:-P1D
END:VALARM
END:VEVENT
END:VCALENDAR
