BEGIN:VCALENDAR
METHOD:REQUEST
PRODID:-//events.orgNONSGML ical.net 4.0//EN
VERSION:2.0
BEGIN:VEVENT
DTEND;VALUE=DATE:20260521
DTSTAMP:20260422T090127Z
DTSTART;VALUE=DATE:20260521
LOCATION:CIBC Theatre\, Chicago
ORGANIZER;CN=:mailto:events@events.org
SEQUENCE:0
SUMMARY:Monty Python's Spamalot (Chicago)
UID:9c4d5984-b322-42cd-8ba5-fcf5e545de2e
URL:https://events.org/e/Monty-Pythons-Spamalot-Chicago/OW83QFKY
BEGIN:VALARM
ACTION:DISPLAY
SUMMARY:Reminder
TRIGGER:-P1D
END:VALARM
END:VEVENT
END:VCALENDAR
