BEGIN:VCALENDAR
METHOD:REQUEST
PRODID:-//events.orgNONSGML ical.net 4.0//EN
VERSION:2.0
BEGIN:VEVENT
DTEND;VALUE=DATE:20260424
DTSTAMP:20260422T091845Z
DTSTART;VALUE=DATE:20260424
LOCATION:Radio City Music Hall\, New York
ORGANIZER;CN=:mailto:events@events.org
SEQUENCE:0
SUMMARY:Carlos Vives - Tour Al Sol
UID:58ff9bac-908e-4403-8333-76bf98d39cf6
URL:https://events.org/e/Carlos-Vives---Tour-Al-Sol/BPUQNV7A
BEGIN:VALARM
ACTION:DISPLAY
SUMMARY:Reminder
TRIGGER:-P1D
END:VALARM
END:VEVENT
END:VCALENDAR
