BEGIN:VCALENDAR
METHOD:REQUEST
PRODID:-//events.orgNONSGML ical.net 4.0//EN
VERSION:2.0
BEGIN:VEVENT
DTEND;VALUE=DATE:20260422
DTSTAMP:20260421T095244Z
DTSTART;VALUE=DATE:20260422
LOCATION:The GRAMMY Museum\, Los Angeles
ORGANIZER;CN=:mailto:events@events.org
SEQUENCE:0
SUMMARY:Gary Stewart: I Am From The Honky-Tonks
UID:40ca5001-6aa4-492a-bce4-81f3dde56b24
URL:https://events.org/e/Gary-Stewart-I-Am-From-The-Honky-Tonks/9HQUKWPB
BEGIN:VALARM
ACTION:DISPLAY
SUMMARY:Reminder
TRIGGER:-P1D
END:VALARM
END:VEVENT
END:VCALENDAR
