BEGIN:VCALENDAR
METHOD:REQUEST
PRODID:-//events.orgNONSGML ical.net 4.0//EN
VERSION:2.0
BEGIN:VEVENT
DTEND;VALUE=DATE:20260920
DTSTAMP:20260424T092326Z
DTSTART;VALUE=DATE:20260920
LOCATION:Cal Coast Credit Union Open Air Theatre at SDSU\, San Diego
ORGANIZER;CN=:mailto:events@events.org
SEQUENCE:0
SUMMARY:Freya Skye - Stars Align Tour
UID:59a217a9-147f-49c8-b1d2-6d85481bdf4b
URL:https://events.org/e/Freya-Skye---Stars-Align-Tour/U5C5B99W
BEGIN:VALARM
ACTION:DISPLAY
SUMMARY:Reminder
TRIGGER:-P1D
END:VALARM
END:VEVENT
END:VCALENDAR
