BEGIN:VCALENDAR
METHOD:REQUEST
PRODID:-//events.orgNONSGML ical.net 4.0//EN
VERSION:2.0
BEGIN:VEVENT
DTEND;VALUE=DATE:20260621
DTSTAMP:20260421T104445Z
DTSTART;VALUE=DATE:20260621
LOCATION:Infinity Park\, Denver
ORGANIZER;CN=:mailto:events@events.org
SEQUENCE:0
SUMMARY:Denver Onyx vs NY Exiles
UID:3429a5cb-d546-4b47-8f96-165e050e8939
URL:https://events.org/e/Denver-Onyx-vs-NY-Exiles/QKKA7POV
BEGIN:VALARM
ACTION:DISPLAY
SUMMARY:Reminder
TRIGGER:-P1D
END:VALARM
END:VEVENT
END:VCALENDAR
