BEGIN:VCALENDAR
METHOD:REQUEST
PRODID:-//events.orgNONSGML ical.net 4.0//EN
VERSION:2.0
BEGIN:VEVENT
DTEND;VALUE=DATE:20260613
DTSTAMP:20260421T131123Z
DTSTART;VALUE=DATE:20260613
LOCATION:The Masonic\, San Francisco
ORGANIZER;CN=:mailto:events@events.org
SEQUENCE:0
SUMMARY:Jim Gaffigan: Everything is Wonderful!
UID:64c83c21-e984-4bd6-87ac-1d90c51f88c2
URL:https://events.org/e/Jim-Gaffigan-Everything-is-Wonderful/H7DLEMB5
BEGIN:VALARM
ACTION:DISPLAY
SUMMARY:Reminder
TRIGGER:-P1D
END:VALARM
END:VEVENT
END:VCALENDAR
