BEGIN:VCALENDAR
METHOD:REQUEST
PRODID:-//events.orgNONSGML ical.net 4.0//EN
VERSION:2.0
BEGIN:VEVENT
DTEND;VALUE=DATE:20260925
DTSTAMP:20260424T092445Z
DTSTART;VALUE=DATE:20260925
LOCATION:PETCO Park\, San Diego
ORGANIZER;CN=:mailto:events@events.org
SEQUENCE:0
SUMMARY:San Diego Padres vs. Arizona Diamondbacks
UID:195e87d0-00e2-4036-b0d0-9d43adb62e58
URL:https://events.org/e/San-Diego-Padres-vs-Arizona-Diamondbacks/VJBPC69X
BEGIN:VALARM
ACTION:DISPLAY
SUMMARY:Reminder
TRIGGER:-P1D
END:VALARM
END:VEVENT
END:VCALENDAR
