BEGIN:VCALENDAR
METHOD:REQUEST
PRODID:-//events.orgNONSGML ical.net 4.0//EN
VERSION:2.0
BEGIN:VEVENT
DTEND;VALUE=DATE:20260516
DTSTAMP:20260423T134015Z
DTSTART;VALUE=DATE:20260516
LOCATION:Palace of Fine Arts\, San Francisco
ORGANIZER;CN=:mailto:events@events.org
SEQUENCE:0
SUMMARY:Laurie Berkner: The Greatest Hits Solo Tour
UID:093573ae-35bb-48b8-b59c-105b203a6380
URL:https://events.org/e/Laurie-Berkner-The-Greatest-Hits-Solo-Tour/IWTCBI
 Y3
BEGIN:VALARM
ACTION:DISPLAY
SUMMARY:Reminder
TRIGGER:-P1D
END:VALARM
END:VEVENT
END:VCALENDAR
