BEGIN:VCALENDAR
METHOD:REQUEST
PRODID:-//events.orgNONSGML ical.net 4.0//EN
VERSION:2.0
BEGIN:VEVENT
DTEND;VALUE=DATE:20260706
DTSTAMP:20260422T091832Z
DTSTART;VALUE=DATE:20260706
LOCATION:Truist Park\, Atlanta
ORGANIZER;CN=:mailto:events@events.org
SEQUENCE:0
SUMMARY:Atlanta Braves vs. New York Mets
UID:16786459-70e0-4bdf-9c6b-795bba20add6
URL:https://events.org/e/Atlanta-Braves-vs-New-York-Mets/BD83TLXB
BEGIN:VALARM
ACTION:DISPLAY
SUMMARY:Reminder
TRIGGER:-P1D
END:VALARM
END:VEVENT
END:VCALENDAR
