BEGIN:VCALENDAR
METHOD:REQUEST
PRODID:-//events.orgNONSGML ical.net 4.0//EN
VERSION:2.0
BEGIN:VEVENT
DTEND;VALUE=DATE:20260905
DTSTAMP:20260422T084926Z
DTSTART;VALUE=DATE:20260905
LOCATION:The Wilbur\, Boston
ORGANIZER;CN=:mailto:events@events.org
SEQUENCE:0
SUMMARY:ALOK
UID:bf584b55-2a5a-47d0-8fcb-dc78a3c08649
URL:https://events.org/e/ALOK/8RHMCRUT
BEGIN:VALARM
ACTION:DISPLAY
SUMMARY:Reminder
TRIGGER:-P1D
END:VALARM
END:VEVENT
END:VCALENDAR
