BEGIN:VCALENDAR
METHOD:REQUEST
PRODID:-//events.orgNONSGML ical.net 4.0//EN
VERSION:2.0
BEGIN:VEVENT
DTEND;VALUE=DATE:20261015
DTSTAMP:20260422T084027Z
DTSTART;VALUE=DATE:20261015
LOCATION:Fox Theatre Detroit\, Detroit
ORGANIZER;CN=:mailto:events@events.org
SEQUENCE:0
SUMMARY:Leanne Morgan -THE TIME OF OUR LIVES TOUR
UID:addb1877-45ce-44d9-963c-bd3a22b39eeb
URL:https://events.org/e/Leanne-Morgan--THE-TIME-OF-OUR-LIVES-TOUR/QRA2VXOL
BEGIN:VALARM
ACTION:DISPLAY
SUMMARY:Reminder
TRIGGER:-P1D
END:VALARM
END:VEVENT
END:VCALENDAR
