BEGIN:VCALENDAR
METHOD:REQUEST
PRODID:-//events.orgNONSGML ical.net 4.0//EN
VERSION:2.0
BEGIN:VEVENT
DTEND;VALUE=DATE:20260425
DTSTAMP:20260422T084349Z
DTSTART;VALUE=DATE:20260425
LOCATION:Radio City Music Hall Tour Experience\, New York
ORGANIZER;CN=:mailto:events@events.org
SEQUENCE:0
SUMMARY:Radio City Music Hall Tour Experience
UID:bca61dda-7ee2-4784-a46f-51fe9eb4c3d9
URL:https://events.org/e/Radio-City-Music-Hall-Tour-Experience/GY2G4NCX
BEGIN:VALARM
ACTION:DISPLAY
SUMMARY:Reminder
TRIGGER:-P1D
END:VALARM
END:VEVENT
END:VCALENDAR
