BEGIN:VCALENDAR
METHOD:REQUEST
PRODID:-//events.orgNONSGML ical.net 4.0//EN
VERSION:2.0
BEGIN:VEVENT
DTEND;VALUE=DATE:20260527
DTSTAMP:20260421T095252Z
DTSTART;VALUE=DATE:20260527
LOCATION:Paramount Theatre\, Seattle
ORGANIZER;CN=:mailto:events@events.org
SEQUENCE:0
SUMMARY:An Acoustic Evening with Trey Anastasio
UID:30b12ec7-40c5-4d79-8a8c-573f48e37336
URL:https://events.org/e/An-Acoustic-Evening-with-Trey-Anastasio/N3VT8GLY
BEGIN:VALARM
ACTION:DISPLAY
SUMMARY:Reminder
TRIGGER:-P1D
END:VALARM
END:VEVENT
END:VCALENDAR
