BEGIN:VCALENDAR
METHOD:REQUEST
PRODID:-//events.orgNONSGML ical.net 4.0//EN
VERSION:2.0
BEGIN:VEVENT
DTEND;VALUE=DATE:20260718
DTSTAMP:20260423T133838Z
DTSTART;VALUE=DATE:20260718
LOCATION:The Observatory North Park\, San Diego
ORGANIZER;CN=:mailto:events@events.org
SEQUENCE:0
SUMMARY:Fulton Lee - Sing With Me Tour 2026
UID:aaf83c5a-567a-444f-bd5c-7fcc715aef90
URL:https://events.org/e/Fulton-Lee---Sing-With-Me-Tour-2026/BIVDGPBD
BEGIN:VALARM
ACTION:DISPLAY
SUMMARY:Reminder
TRIGGER:-P1D
END:VALARM
END:VEVENT
END:VCALENDAR
