BEGIN:VCALENDAR
METHOD:REQUEST
PRODID:-//events.orgNONSGML ical.net 4.0//EN
VERSION:2.0
BEGIN:VEVENT
DTEND;VALUE=DATE:20260318
DTSTAMP:20260419T130249Z
DTSTART;VALUE=DATE:20260318
LOCATION:Empty Bottle\, Chicago
ORGANIZER;CN=:mailto:events@events.org
SEQUENCE:0
SUMMARY:Various Distractions
UID:e928ca45-81aa-42f6-b609-1bd9d5142b95
URL:https://events.org/e/Various-Distractions/BGD9TROJ
BEGIN:VALARM
ACTION:DISPLAY
SUMMARY:Reminder
TRIGGER:-P1D
END:VALARM
END:VEVENT
END:VCALENDAR
