BEGIN:VCALENDAR
METHOD:REQUEST
PRODID:-//events.orgNONSGML ical.net 4.0//EN
VERSION:2.0
BEGIN:VEVENT
DTEND;VALUE=DATE:20260702
DTSTAMP:20260424T092547Z
DTSTART;VALUE=DATE:20260702
LOCATION:Paradise Rock Club presented by Citizens\, Boston
ORGANIZER;CN=:mailto:events@events.org
SEQUENCE:0
SUMMARY:Corbyn Besson and Soulidified: The Pop'n Out Tour
UID:4cc39276-f0b1-49af-8154-1258193fd869
URL:https://events.org/e/Corbyn-Besson-and-Soulidified-The-Popn-Out-Tour/2
 DUEKL7Q
BEGIN:VALARM
ACTION:DISPLAY
SUMMARY:Reminder
TRIGGER:-P1D
END:VALARM
END:VEVENT
END:VCALENDAR
