BEGIN:VCALENDAR
METHOD:REQUEST
PRODID:-//events.orgNONSGML ical.net 4.0//EN
VERSION:2.0
BEGIN:VEVENT
DTEND;VALUE=DATE:20260703
DTSTAMP:20260421T082534Z
DTSTART;VALUE=DATE:20260703
LOCATION:Gold Bar Distillery\, San Francisco
ORGANIZER;CN=:mailto:events@events.org
SEQUENCE:0
SUMMARY:ELDERBROOK Day Party (21+)
UID:6a6919d1-c90d-4378-8c8d-c3b4058a7476
URL:https://events.org/e/ELDERBROOK-Day-Party-21/39BC5R3X
BEGIN:VALARM
ACTION:DISPLAY
SUMMARY:Reminder
TRIGGER:-P1D
END:VALARM
END:VEVENT
END:VCALENDAR
