BEGIN:VCALENDAR
METHOD:REQUEST
PRODID:-//events.orgNONSGML ical.net 4.0//EN
VERSION:2.0
BEGIN:VEVENT
DTEND;VALUE=DATE:20260626
DTSTAMP:20260422T091347Z
DTSTART;VALUE=DATE:20260626
LOCATION:Feinstein's at The Nikko\, San Francisco
ORGANIZER;CN=:mailto:events@events.org
SEQUENCE:0
SUMMARY:Drag at the Nikko @ Feinstein's March 26  - $20 entry
UID:e72bec4a-cbbd-409a-9c27-2ba27a80213a
URL:https://events.org/e/Drag-at-the-Nikko-Feinsteins-March-26---20-entry/
 2HWM2RAP
BEGIN:VALARM
ACTION:DISPLAY
SUMMARY:Reminder
TRIGGER:-P1D
END:VALARM
END:VEVENT
END:VCALENDAR
