BEGIN:VCALENDAR
METHOD:REQUEST
PRODID:-//events.orgNONSGML ical.net 4.0//EN
VERSION:2.0
BEGIN:VEVENT
DTEND;VALUE=DATE:20260601
DTSTAMP:20260424T080505Z
DTSTART;VALUE=DATE:20260601
LOCATION:Punch Line Philly Callback Bar\, Philadelphia
ORGANIZER;CN=:mailto:events@events.org
SEQUENCE:0
SUMMARY:Punch Line Philly Open Mic Night
UID:a93b1f27-1a89-47a8-afce-7b5a197eebc6
URL:https://events.org/e/Punch-Line-Philly-Open-Mic-Night/6S7HITHF
BEGIN:VALARM
ACTION:DISPLAY
SUMMARY:Reminder
TRIGGER:-P1D
END:VALARM
END:VEVENT
END:VCALENDAR
