BEGIN:VCALENDAR
METHOD:REQUEST
PRODID:-//events.orgNONSGML ical.net 4.0//EN
VERSION:2.0
BEGIN:VEVENT
DTEND;VALUE=DATE:20260528
DTSTAMP:20260424T081436Z
DTSTART;VALUE=DATE:20260528
LOCATION:Reggies Rock Club\, Chicago
ORGANIZER;CN=:mailto:events@events.org
SEQUENCE:0
SUMMARY:Stygian Bough\, 40 Watt Sun
UID:d928bf5d-b63d-4509-a979-2197f32b286a
URL:https://events.org/e/Stygian-Bough-40-Watt-Sun/9WL25B9E
BEGIN:VALARM
ACTION:DISPLAY
SUMMARY:Reminder
TRIGGER:-P1D
END:VALARM
END:VEVENT
END:VCALENDAR
