BEGIN:VCALENDAR
METHOD:REQUEST
PRODID:-//events.orgNONSGML ical.net 4.0//EN
VERSION:2.0
BEGIN:VEVENT
DTEND;VALUE=DATE:20260502
DTSTAMP:20260421T095437Z
DTSTART;VALUE=DATE:20260502
LOCATION:Tractor\, Seattle
ORGANIZER;CN=:mailto:events@events.org
SEQUENCE:0
SUMMARY:Tractor Presents: Tenille Townes - The Living Room Tour - w/ Corri
 na AT The Fremont Abbey
UID:f0993679-7ccd-4d86-baef-1c459ac2ca4a
URL:https://events.org/e/Tractor-Presents-Tenille-Townes---The-Living/JGBF
 HXIA
BEGIN:VALARM
ACTION:DISPLAY
SUMMARY:Reminder
TRIGGER:-P1D
END:VALARM
END:VEVENT
END:VCALENDAR
