BEGIN:VCALENDAR
METHOD:REQUEST
PRODID:-//events.orgNONSGML ical.net 4.0//EN
VERSION:2.0
BEGIN:VEVENT
DTEND;VALUE=DATE:20260502
DTSTAMP:20260422T103358Z
DTSTART;VALUE=DATE:20260502
LOCATION:Universoul Circus - Atlanta - Old Turner Field Grey Lot\, Atlanta
ORGANIZER;CN=:mailto:events@events.org
SEQUENCE:0
SUMMARY:UniverSoul Circus
UID:6c7b72ee-b704-4c0f-85de-d0c722ae8187
URL:https://events.org/e/UniverSoul-Circus/SQHCMR3L
BEGIN:VALARM
ACTION:DISPLAY
SUMMARY:Reminder
TRIGGER:-P1D
END:VALARM
END:VEVENT
END:VCALENDAR
