BEGIN:VCALENDAR
METHOD:REQUEST
PRODID:-//events.orgNONSGML ical.net 4.0//EN
VERSION:2.0
BEGIN:VEVENT
DTEND;VALUE=DATE:20260511
DTSTAMP:20260422T090108Z
DTSTART;VALUE=DATE:20260511
LOCATION:Three Top Lounge\, Chicago
ORGANIZER;CN=:mailto:events@events.org
SEQUENCE:0
SUMMARY:Welcome To The Show with Derek Bish
UID:e5f06515-4a7f-46e7-a024-d4ef04cc8141
URL:https://events.org/e/Welcome-To-The-Show-with-Derek-Bish/2UEYESJ7
BEGIN:VALARM
ACTION:DISPLAY
SUMMARY:Reminder
TRIGGER:-P1D
END:VALARM
END:VEVENT
END:VCALENDAR
