BEGIN:VCALENDAR
METHOD:REQUEST
PRODID:-//events.orgNONSGML ical.net 4.0//EN
VERSION:2.0
BEGIN:VEVENT
DTEND;VALUE=DATE:20260516
DTSTAMP:20260421T082100Z
DTSTART;VALUE=DATE:20260516
LOCATION:Punch Line Houston\, Houston
ORGANIZER;CN=:mailto:events@events.org
SEQUENCE:0
SUMMARY:Cynthia Lee Fontaine Presents: Drag Brunch at the Punch
UID:5df54fe6-a93c-4be7-86f5-7137cc161b62
URL:https://events.org/e/Cynthia-Lee-Fontaine-Presents-Drag-Brunch-at/OF2V
 VUMH
BEGIN:VALARM
ACTION:DISPLAY
SUMMARY:Reminder
TRIGGER:-P1D
END:VALARM
END:VEVENT
END:VCALENDAR
