BEGIN:VCALENDAR
METHOD:REQUEST
PRODID:-//events.orgNONSGML ical.net 4.0//EN
VERSION:2.0
BEGIN:VEVENT
DTEND;VALUE=DATE:20260519
DTSTAMP:20260422T090452Z
DTSTART;VALUE=DATE:20260519
LOCATION:The Echo\, Los Angeles
ORGANIZER;CN=:mailto:events@events.org
SEQUENCE:0
SUMMARY:Your Neighbors - Live in Real Life
UID:a00f2a02-fba4-483b-98b8-3ff54c98232d
URL:https://events.org/e/Your-Neighbors---Live-in-Real-Life/KCWJOBEN
BEGIN:VALARM
ACTION:DISPLAY
SUMMARY:Reminder
TRIGGER:-P1D
END:VALARM
END:VEVENT
END:VCALENDAR
