BEGIN:VCALENDAR
METHOD:REQUEST
PRODID:-//events.orgNONSGML ical.net 4.0//EN
VERSION:2.0
BEGIN:VEVENT
DTEND;VALUE=DATE:20260324
DTSTAMP:20260421T082026Z
DTSTART;VALUE=DATE:20260324
LOCATION:Houston Improv\, Houston
ORGANIZER;CN=:mailto:events@events.org
SEQUENCE:0
SUMMARY:Alex Quiroz & Ivan Mendoza Stand-Up
UID:c5af9756-e2e9-4df6-846d-f3c2cee3614f
URL:https://events.org/e/Alex-Quiroz-Ivan-Mendoza-Stand-Up/U3VD3N9E
BEGIN:VALARM
ACTION:DISPLAY
SUMMARY:Reminder
TRIGGER:-P1D
END:VALARM
END:VEVENT
END:VCALENDAR
