BEGIN:VCALENDAR
METHOD:REQUEST
PRODID:-//events.orgNONSGML ical.net 4.0//EN
VERSION:2.0
BEGIN:VEVENT
DTEND;VALUE=DATE:20260912
DTSTAMP:20260422T091122Z
DTSTART;VALUE=DATE:20260912
LOCATION:The Fillmore Philadelphia\, Philadelphia
ORGANIZER;CN=:mailto:events@events.org
SEQUENCE:0
SUMMARY:Little Stranger
UID:0d7547e9-7ae4-4b7e-9b2f-6dbc6a6570b1
URL:https://events.org/e/Little-Stranger/YS74M79N
BEGIN:VALARM
ACTION:DISPLAY
SUMMARY:Reminder
TRIGGER:-P1D
END:VALARM
END:VEVENT
END:VCALENDAR
