BEGIN:VCALENDAR
METHOD:REQUEST
PRODID:-//events.orgNONSGML ical.net 4.0//EN
VERSION:2.0
BEGIN:VEVENT
DTEND;VALUE=DATE:20260628
DTSTAMP:20260421T171845Z
DTSTART;VALUE=DATE:20260628
LOCATION:The Buell Theatre\, Denver
ORGANIZER;CN=:mailto:events@events.org
SEQUENCE:0
SUMMARY:Derek Hough - Symphony of Dance: Encore
UID:0be39c64-53c2-42f7-ba0a-d1d2f60e12f8
URL:https://events.org/e/Derek-Hough---Symphony-of-Dance-Encore/S2UM3LNP
BEGIN:VALARM
ACTION:DISPLAY
SUMMARY:Reminder
TRIGGER:-P1D
END:VALARM
END:VEVENT
END:VCALENDAR
