BEGIN:VCALENDAR
METHOD:REQUEST
PRODID:-//events.orgNONSGML ical.net 4.0//EN
VERSION:2.0
BEGIN:VEVENT
DTEND;VALUE=DATE:20260524
DTSTAMP:20260423T133328Z
DTSTART;VALUE=DATE:20260524
LOCATION:Nu Stadium\, Miami
ORGANIZER;CN=:mailto:events@events.org
SEQUENCE:0
SUMMARY:Inter Miami CF vs Philadelphia Union
UID:c7cb65b9-e4d3-46cf-9a63-feda5e9c2a83
URL:https://events.org/e/Inter-Miami-CF-vs-Philadelphia-Union/E79DSR8V
BEGIN:VALARM
ACTION:DISPLAY
SUMMARY:Reminder
TRIGGER:-P1D
END:VALARM
END:VEVENT
END:VCALENDAR
