BEGIN:VCALENDAR
METHOD:REQUEST
PRODID:-//events.orgNONSGML ical.net 4.0//EN
VERSION:2.0
BEGIN:VEVENT
DTEND;VALUE=DATE:20260507
DTSTAMP:20260419T154235Z
DTSTART;VALUE=DATE:20260507
LOCATION:The Wiltern\, Los Angeles
ORGANIZER;CN=:mailto:events@events.org
SEQUENCE:0
SUMMARY:Netflix Is A Joke Presents: Giggly Squad & Special Guests
UID:b5ffc5e3-e9ca-44e8-be0c-f9a963195b9b
URL:https://events.org/e/Netflix-Is-A-Joke-Presents-Giggly-Squad-Speci/4TE
 F9MGV
BEGIN:VALARM
ACTION:DISPLAY
SUMMARY:Reminder
TRIGGER:-P1D
END:VALARM
END:VEVENT
END:VCALENDAR
