BEGIN:VCALENDAR
METHOD:REQUEST
PRODID:-//events.orgNONSGML ical.net 4.0//EN
VERSION:2.0
BEGIN:VEVENT
DTEND;VALUE=DATE:20260707
DTSTAMP:20260421T094943Z
DTSTART;VALUE=DATE:20260707
LOCATION:Lincoln Theatre\, Washington
ORGANIZER;CN=:mailto:events@events.org
SEQUENCE:0
SUMMARY:Joe Jackson + Band - Hope and Fury Tour 2026
UID:60d54831-b3f0-4191-9e68-0b26d8a85ed3
URL:https://events.org/e/Joe-Jackson-Band---Hope-and-Fury-Tour-2026/GRGNH3
 R9
BEGIN:VALARM
ACTION:DISPLAY
SUMMARY:Reminder
TRIGGER:-P1D
END:VALARM
END:VEVENT
END:VCALENDAR
