BEGIN:VCALENDAR
METHOD:REQUEST
PRODID:-//events.orgNONSGML ical.net 4.0//EN
VERSION:2.0
BEGIN:VEVENT
DTEND;VALUE=DATE:20260401
DTSTAMP:20260421T081924Z
DTSTART;VALUE=DATE:20260401
LOCATION:Wrigley Field\, Chicago
ORGANIZER;CN=:mailto:events@events.org
SEQUENCE:0
SUMMARY:Chicago Cubs vs. Los Angeles Angels
UID:03ae9b3b-f519-4c39-9766-9bc81e03275b
URL:https://events.org/e/Chicago-Cubs-vs-Los-Angeles-Angels/YKFXDMKL
BEGIN:VALARM
ACTION:DISPLAY
SUMMARY:Reminder
TRIGGER:-P1D
END:VALARM
END:VEVENT
END:VCALENDAR
