BEGIN:VCALENDAR
METHOD:REQUEST
PRODID:-//events.orgNONSGML ical.net 4.0//EN
VERSION:2.0
BEGIN:VEVENT
DTEND;VALUE=DATE:20260531
DTSTAMP:20260419T170858Z
DTSTART;VALUE=DATE:20260531
LOCATION:Coors Field\, Denver
ORGANIZER;CN=:mailto:events@events.org
SEQUENCE:0
SUMMARY:Colorado Rockies vs. San Francisco Giants
UID:87fe444b-eff1-49cc-aeea-0a84d85734ee
URL:https://events.org/e/Colorado-Rockies-vs-San-Francisco-Giants/LNOF99UY
BEGIN:VALARM
ACTION:DISPLAY
SUMMARY:Reminder
TRIGGER:-P1D
END:VALARM
END:VEVENT
END:VCALENDAR
