BEGIN:VCALENDAR
METHOD:REQUEST
PRODID:-//events.orgNONSGML ical.net 4.0//EN
VERSION:2.0
BEGIN:VEVENT
DTEND;VALUE=DATE:20260428
DTSTAMP:20260423T133026Z
DTSTART;VALUE=DATE:20260428
LOCATION:Bottom Lounge\, Chicago
ORGANIZER;CN=:mailto:events@events.org
SEQUENCE:0
SUMMARY:trauma ray + Glixen
UID:24b9d91a-cd15-4a9e-aea7-0123363f1d37
URL:https://events.org/e/trauma-ray-Glixen/2OL9TC9E
BEGIN:VALARM
ACTION:DISPLAY
SUMMARY:Reminder
TRIGGER:-P1D
END:VALARM
END:VEVENT
END:VCALENDAR
