BEGIN:VCALENDAR
METHOD:REQUEST
PRODID:-//events.orgNONSGML ical.net 4.0//EN
VERSION:2.0
BEGIN:VEVENT
DTEND;VALUE=DATE:20260530
DTSTAMP:20260421T095623Z
DTSTART;VALUE=DATE:20260530
LOCATION:The Crocodile\, Seattle
ORGANIZER;CN=:mailto:events@events.org
SEQUENCE:0
SUMMARY:Spite\, Emmure\, Psycho-Frame\, Rev3rent
UID:045168e2-f9cc-4527-b4a6-c8f358eef5c9
URL:https://events.org/e/Spite-Emmure-Psycho-Frame-Rev3rent/CKWWJIVW
BEGIN:VALARM
ACTION:DISPLAY
SUMMARY:Reminder
TRIGGER:-P1D
END:VALARM
END:VEVENT
END:VCALENDAR
