BEGIN:VCALENDAR
METHOD:REQUEST
PRODID:-//events.orgNONSGML ical.net 4.0//EN
VERSION:2.0
BEGIN:VEVENT
DTEND;VALUE=DATE:20260516
DTSTAMP:20260423T093917Z
DTSTART;VALUE=DATE:20260516
LOCATION:Mission Ballroom\, Denver
ORGANIZER;CN=:mailto:events@events.org
SEQUENCE:0
SUMMARY:Dance Hall Crashers - Ages 16+
UID:1e003980-3ea4-4b72-8c8e-772fbdd9cfcd
URL:https://events.org/e/Dance-Hall-Crashers---Ages-16/JAIA5DPW
BEGIN:VALARM
ACTION:DISPLAY
SUMMARY:Reminder
TRIGGER:-P1D
END:VALARM
END:VEVENT
END:VCALENDAR
