BEGIN:VCALENDAR
METHOD:REQUEST
PRODID:-//events.orgNONSGML ical.net 4.0//EN
VERSION:2.0
BEGIN:VEVENT
DTEND;VALUE=DATE:20260712
DTSTAMP:20260421T095621Z
DTSTART;VALUE=DATE:20260712
LOCATION:CareFirst Arena\, Washington
ORGANIZER;CN=:mailto:events@events.org
SEQUENCE:0
SUMMARY:Washington Mystics vs. Seattle Storm
UID:e9a2c5a9-84e3-4bf0-9943-d8c1c2590630
URL:https://events.org/e/Washington-Mystics-vs-Seattle-Storm/WG4BGN5H
BEGIN:VALARM
ACTION:DISPLAY
SUMMARY:Reminder
TRIGGER:-P1D
END:VALARM
END:VEVENT
END:VCALENDAR
