BEGIN:VCALENDAR
METHOD:REQUEST
PRODID:-//events.orgNONSGML ical.net 4.0//EN
VERSION:2.0
BEGIN:VEVENT
DTEND;VALUE=DATE:20260520
DTSTAMP:20260422T090545Z
DTSTART;VALUE=DATE:20260520
LOCATION:Huntington Bank Pavilion at Northerly Island\, Chicago
ORGANIZER;CN=:mailto:events@events.org
SEQUENCE:0
SUMMARY:Khalid: It's Always Summer Somewhere Tour
UID:617f1d45-8e71-4c65-b7ab-059e78f706f1
URL:https://events.org/e/Khalid-Its-Always-Summer-Somewhere-Tour/8YSDRVWA
BEGIN:VALARM
ACTION:DISPLAY
SUMMARY:Reminder
TRIGGER:-P1D
END:VALARM
END:VEVENT
END:VCALENDAR
