BEGIN:VCALENDAR
METHOD:REQUEST
PRODID:-//events.orgNONSGML ical.net 4.0//EN
VERSION:2.0
BEGIN:VEVENT
DTEND;VALUE=DATE:20260802
DTSTAMP:20260421T082100Z
DTSTART;VALUE=DATE:20260802
LOCATION:American Airlines Center\, Dallas
ORGANIZER;CN=:mailto:events@events.org
SEQUENCE:0
SUMMARY:Melanie Martinez - HADES: THE SACRIFICE
UID:756d276b-e483-4115-855d-8526f2c54b54
URL:https://events.org/e/Melanie-Martinez---HADES-THE-SACRIFICE/98SF8KUU
BEGIN:VALARM
ACTION:DISPLAY
SUMMARY:Reminder
TRIGGER:-P1D
END:VALARM
END:VEVENT
END:VCALENDAR
