BEGIN:VCALENDAR
METHOD:REQUEST
PRODID:-//events.orgNONSGML ical.net 4.0//EN
VERSION:2.0
BEGIN:VEVENT
DTEND;VALUE=DATE:20260308
DTSTAMP:20260421T082426Z
DTSTART;VALUE=DATE:20260308
LOCATION:Astor Place Theatre\, New York
ORGANIZER;CN=:mailto:events@events.org
SEQUENCE:0
SUMMARY:Burnout Paradise
UID:b4421399-6815-451f-a0cf-1d4b6c771101
URL:https://events.org/e/Burnout-Paradise/JEIBJQ96
BEGIN:VALARM
ACTION:DISPLAY
SUMMARY:Reminder
TRIGGER:-P1D
END:VALARM
END:VEVENT
END:VCALENDAR
