BEGIN:VCALENDAR
METHOD:REQUEST
PRODID:-//events.orgNONSGML ical.net 4.0//EN
VERSION:2.0
BEGIN:VEVENT
DTEND;VALUE=DATE:20260625
DTSTAMP:20260421T094119Z
DTSTART;VALUE=DATE:20260625
LOCATION:Phoenix Theatre - Hormel Theatre\, Phoenix
ORGANIZER;CN=:mailto:events@events.org
SEQUENCE:0
SUMMARY:Dear Evan Hansen (Touring)
UID:5d4c5aca-9228-47fe-a321-ba9768ecba5c
URL:https://events.org/e/Dear-Evan-Hansen-Touring/282P9YIN
BEGIN:VALARM
ACTION:DISPLAY
SUMMARY:Reminder
TRIGGER:-P1D
END:VALARM
END:VEVENT
END:VCALENDAR
