BEGIN:VCALENDAR
METHOD:REQUEST
PRODID:-//events.orgNONSGML ical.net 4.0//EN
VERSION:2.0
BEGIN:VEVENT
DTEND;VALUE=DATE:20260718
DTSTAMP:20260422T091347Z
DTSTART;VALUE=DATE:20260718
LOCATION:Dell Music Center\, Philadelphia
ORGANIZER;CN=:mailto:events@events.org
SEQUENCE:0
SUMMARY:Praise Under The Stars w/ Tasha Cobbs-Leonard & Chandler Moore
UID:eae78bf7-b7ea-48a6-a4d3-3802e67158ce
URL:https://events.org/e/Praise-Under-The-Stars-w-Tasha-Cobbs-Leonard/JVAO
 MDWH
BEGIN:VALARM
ACTION:DISPLAY
SUMMARY:Reminder
TRIGGER:-P1D
END:VALARM
END:VEVENT
END:VCALENDAR
