BEGIN:VCALENDAR
METHOD:REQUEST
PRODID:-//events.orgNONSGML ical.net 4.0//EN
VERSION:2.0
BEGIN:VEVENT
DTEND;VALUE=DATE:20260527
DTSTAMP:20260424T081222Z
DTSTART;VALUE=DATE:20260527
LOCATION:Rate Field\, Chicago
ORGANIZER;CN=:mailto:events@events.org
SEQUENCE:0
SUMMARY:Chicago White Sox vs. Minnesota Twins
UID:8f7d30d9-53dd-463b-9462-700a56b85dce
URL:https://events.org/e/Chicago-White-Sox-vs-Minnesota-Twins/B2PIQ3DH
BEGIN:VALARM
ACTION:DISPLAY
SUMMARY:Reminder
TRIGGER:-P1D
END:VALARM
END:VEVENT
END:VCALENDAR
