BEGIN:VCALENDAR
METHOD:REQUEST
PRODID:-//events.orgNONSGML ical.net 4.0//EN
VERSION:2.0
BEGIN:VEVENT
DTEND;VALUE=DATE:20260618
DTSTAMP:20260422T084412Z
DTSTART;VALUE=DATE:20260618
LOCATION:Nikki Lopez Philly\, Philadelphia
ORGANIZER;CN=:mailto:events@events.org
SEQUENCE:0
SUMMARY:Mourn The Light & Iron Brigade
UID:f0a67050-365e-4f16-ab2b-cca98d9ac7c0
URL:https://events.org/e/Mourn-The-Light-Iron-Brigade/TJ92E4P4
BEGIN:VALARM
ACTION:DISPLAY
SUMMARY:Reminder
TRIGGER:-P1D
END:VALARM
END:VEVENT
END:VCALENDAR
