BEGIN:VCALENDAR
METHOD:REQUEST
PRODID:-//events.orgNONSGML ical.net 4.0//EN
VERSION:2.0
BEGIN:VEVENT
DTEND;VALUE=DATE:20260513
DTSTAMP:20260419T213710Z
DTSTART;VALUE=DATE:20260513
LOCATION:Neck of the Woods\, San Francisco
ORGANIZER;CN=:mailto:events@events.org
SEQUENCE:0
SUMMARY:Neck of the Woods SF Open Mic Wednesdays
UID:e6fb8017-d1ca-4ac9-afbc-5b8f1f14ef68
URL:https://events.org/e/Neck-of-the-Woods-SF-Open-Mic-Wednesdays/MD5UEH36
BEGIN:VALARM
ACTION:DISPLAY
SUMMARY:Reminder
TRIGGER:-P1D
END:VALARM
END:VEVENT
END:VCALENDAR
